BEGIN:VCALENDAR
VERSION:2.0
PRODID:-//Divine Soul Rami - ECPv6.15.10//NONSGML v1.0//EN
CALSCALE:GREGORIAN
METHOD:PUBLISH
X-WR-CALNAME:Divine Soul Rami
X-ORIGINAL-URL:https://divinesoulrami.com
X-WR-CALDESC:Events for Divine Soul Rami
REFRESH-INTERVAL;VALUE=DURATION:PT1H
X-Robots-Tag:noindex
X-PUBLISHED-TTL:PT1H
BEGIN:VTIMEZONE
TZID:UTC
BEGIN:STANDARD
TZOFFSETFROM:+0000
TZOFFSETTO:+0000
TZNAME:UTC
DTSTART:20230101T000000
END:STANDARD
END:VTIMEZONE
BEGIN:VEVENT
DTSTART;VALUE=DATE:20241101
DTEND;VALUE=DATE:20241102
DTSTAMP:20260424T160754
CREATED:20240115T075846Z
LAST-MODIFIED:20240115T075846Z
UID:3836-1730419200-1730505599@divinesoulrami.com
SUMMARY:Diwali
DESCRIPTION:
URL:https://divinesoulrami.com/event/diwali/
LOCATION:Divine soul rami\, Shri Vishnu Spiritual Ashram\, 19647 Lonestar Lane\, Riverside\, California\, CA\, 92508\, United States
CATEGORIES:Special Event
ATTACH;FMTTYPE=image/jpeg:https://divinesoulrami.com/wp-content/uploads/2024/01/diwali.jpg
ORGANIZER;CN="Divine soul rami":MAILTO:Gururamiray44@gmail.com
END:VEVENT
BEGIN:VEVENT
DTSTART;VALUE=DATE:20241003
DTEND;VALUE=DATE:20241013
DTSTAMP:20260424T160754
CREATED:20230202T140018Z
LAST-MODIFIED:20240115T075152Z
UID:3349-1727913600-1728777599@divinesoulrami.com
SUMMARY:Navratri
DESCRIPTION:
URL:https://divinesoulrami.com/event/navratri/
LOCATION:Divine soul rami\, Shri Vishnu Spiritual Ashram\, 19647 Lonestar Lane\, Riverside\, California\, CA\, 92508\, United States
CATEGORIES:Special Event
ATTACH;FMTTYPE=image/jpeg:https://divinesoulrami.com/wp-content/uploads/2023/02/navaratri.jpg
ORGANIZER;CN="Divine soul rami":MAILTO:Gururamiray44@gmail.com
END:VEVENT
BEGIN:VEVENT
DTSTART;VALUE=DATE:20241002
DTEND;VALUE=DATE:20241003
DTSTAMP:20260424T160754
CREATED:20240115T075744Z
LAST-MODIFIED:20240115T160024Z
UID:3833-1727827200-1727913599@divinesoulrami.com
SUMMARY:Gandhi Jayanti
DESCRIPTION:
URL:https://divinesoulrami.com/event/gandhi-jayanti/
LOCATION:Divine soul rami\, Shri Vishnu Spiritual Ashram\, 19647 Lonestar Lane\, Riverside\, California\, CA\, 92508\, United States
CATEGORIES:Special Event
ATTACH;FMTTYPE=image/png:https://divinesoulrami.com/wp-content/uploads/2024/01/gandhi-jayanti.png
ORGANIZER;CN="Divine soul rami":MAILTO:Gururamiray44@gmail.com
END:VEVENT
BEGIN:VEVENT
DTSTART;VALUE=DATE:20240907
DTEND;VALUE=DATE:20240908
DTSTAMP:20260424T160754
CREATED:20240115T075648Z
LAST-MODIFIED:20240115T075648Z
UID:3830-1725667200-1725753599@divinesoulrami.com
SUMMARY:Ganesh Chaturthi
DESCRIPTION:
URL:https://divinesoulrami.com/event/ganesh-chaturthi/
LOCATION:Divine soul rami\, Shri Vishnu Spiritual Ashram\, 19647 Lonestar Lane\, Riverside\, California\, CA\, 92508\, United States
CATEGORIES:Special Event
ATTACH;FMTTYPE=image/jpeg:https://divinesoulrami.com/wp-content/uploads/2024/01/ganesh-chaturthi.jpg
ORGANIZER;CN="Divine soul rami":MAILTO:Gururamiray44@gmail.com
END:VEVENT
BEGIN:VEVENT
DTSTART;VALUE=DATE:20240826
DTEND;VALUE=DATE:20240827
DTSTAMP:20260424T160754
CREATED:20230202T135641Z
LAST-MODIFIED:20240115T075046Z
UID:3346-1724630400-1724716799@divinesoulrami.com
SUMMARY:Krishna Janmastami
DESCRIPTION:
URL:https://divinesoulrami.com/event/krishna-janmastami/
LOCATION:Divine soul rami\, Shri Vishnu Spiritual Ashram\, 19647 Lonestar Lane\, Riverside\, California\, CA\, 92508\, United States
CATEGORIES:Special Event
ATTACH;FMTTYPE=image/jpeg:https://divinesoulrami.com/wp-content/uploads/2023/02/Krishna-Janmastami.jpg
ORGANIZER;CN="Divine soul rami":MAILTO:Gururamiray44@gmail.com
END:VEVENT
BEGIN:VEVENT
DTSTART;VALUE=DATE:20240815
DTEND;VALUE=DATE:20240816
DTSTAMP:20260424T160754
CREATED:20240115T075540Z
LAST-MODIFIED:20240115T075540Z
UID:3827-1723680000-1723766399@divinesoulrami.com
SUMMARY:Independence Day of India
DESCRIPTION:
URL:https://divinesoulrami.com/event/independence-day-of-india/
LOCATION:Divine soul rami\, Shri Vishnu Spiritual Ashram\, 19647 Lonestar Lane\, Riverside\, California\, CA\, 92508\, United States
CATEGORIES:Special Event
ATTACH;FMTTYPE=image/jpeg:https://divinesoulrami.com/wp-content/uploads/2024/01/independence-day.jpg
ORGANIZER;CN="Divine soul rami":MAILTO:Gururamiray44@gmail.com
END:VEVENT
BEGIN:VEVENT
DTSTART;VALUE=DATE:20240721
DTEND;VALUE=DATE:20240722
DTSTAMP:20260424T160754
CREATED:20240115T075426Z
LAST-MODIFIED:20240115T075426Z
UID:3824-1721520000-1721606399@divinesoulrami.com
SUMMARY:Guru Purnima
DESCRIPTION:
URL:https://divinesoulrami.com/event/guru-purnima/
LOCATION:Divine soul rami\, Shri Vishnu Spiritual Ashram\, 19647 Lonestar Lane\, Riverside\, California\, CA\, 92508\, United States
CATEGORIES:Special Event
ATTACH;FMTTYPE=image/jpeg:https://divinesoulrami.com/wp-content/uploads/2024/01/guru-purniama.jpg
ORGANIZER;CN="Divine soul rami":MAILTO:Gururamiray44@gmail.com
END:VEVENT
BEGIN:VEVENT
DTSTART;VALUE=DATE:20240707
DTEND;VALUE=DATE:20240708
DTSTAMP:20260424T160754
CREATED:20240115T075305Z
LAST-MODIFIED:20240115T075320Z
UID:3821-1720310400-1720396799@divinesoulrami.com
SUMMARY:Rath Yatra
DESCRIPTION:
URL:https://divinesoulrami.com/event/rath-yatra/
LOCATION:Divine soul rami\, Shri Vishnu Spiritual Ashram\, 19647 Lonestar Lane\, Riverside\, California\, CA\, 92508\, United States
CATEGORIES:Special Event
ATTACH;FMTTYPE=image/jpeg:https://divinesoulrami.com/wp-content/uploads/2024/01/rath-yatra.jpg
ORGANIZER;CN="Divine soul rami":MAILTO:Gururamiray44@gmail.com
END:VEVENT
BEGIN:VEVENT
DTSTART;VALUE=DATE:20240423
DTEND;VALUE=DATE:20240424
DTSTAMP:20260424T160754
CREATED:20240115T070846Z
LAST-MODIFIED:20240115T070846Z
UID:3818-1713830400-1713916799@divinesoulrami.com
SUMMARY:Hanuman Jayanti
DESCRIPTION:
URL:https://divinesoulrami.com/event/hanuman-jayanti/
LOCATION:Divine soul rami\, Shri Vishnu Spiritual Ashram\, 19647 Lonestar Lane\, Riverside\, California\, CA\, 92508\, United States
CATEGORIES:Special Event
ATTACH;FMTTYPE=image/jpeg:https://divinesoulrami.com/wp-content/uploads/2024/01/hanuman-jayanti.jpg
ORGANIZER;CN="Divine soul rami":MAILTO:Gururamiray44@gmail.com
END:VEVENT
BEGIN:VEVENT
DTSTART;VALUE=DATE:20240417
DTEND;VALUE=DATE:20240418
DTSTAMP:20260424T160754
CREATED:20230202T134750Z
LAST-MODIFIED:20240115T070617Z
UID:3339-1713312000-1713398399@divinesoulrami.com
SUMMARY:Ram Navami
DESCRIPTION:
URL:https://divinesoulrami.com/event/ram-navami/
LOCATION:Divine soul rami\, Shri Vishnu Spiritual Ashram\, 19647 Lonestar Lane\, Riverside\, California\, CA\, 92508\, United States
CATEGORIES:Special Event
ATTACH;FMTTYPE=image/jpeg:https://divinesoulrami.com/wp-content/uploads/2023/02/Ram-Navami.jpg
ORGANIZER;CN="Divine soul rami":MAILTO:Gururamiray44@gmail.com
END:VEVENT
BEGIN:VEVENT
DTSTART;VALUE=DATE:20240325
DTEND;VALUE=DATE:20240326
DTSTAMP:20260424T160754
CREATED:20240115T070447Z
LAST-MODIFIED:20240115T070521Z
UID:3815-1711324800-1711411199@divinesoulrami.com
SUMMARY:Holi
DESCRIPTION:
URL:https://divinesoulrami.com/event/holi/
LOCATION:Divine soul rami\, Shri Vishnu Spiritual Ashram\, 19647 Lonestar Lane\, Riverside\, California\, CA\, 92508\, United States
CATEGORIES:Special Event
ATTACH;FMTTYPE=image/jpeg:https://divinesoulrami.com/wp-content/uploads/2024/01/holi.jpg
ORGANIZER;CN="Divine soul rami":MAILTO:Gururamiray44@gmail.com
END:VEVENT
BEGIN:VEVENT
DTSTART;VALUE=DATE:20240308
DTEND;VALUE=DATE:20240309
DTSTAMP:20260424T160754
CREATED:20230202T135253Z
LAST-MODIFIED:20240130T110852Z
UID:3343-1709856000-1709942399@divinesoulrami.com
SUMMARY:Maha Shivaratri
DESCRIPTION:
URL:https://divinesoulrami.com/event/shiv-ratri/
LOCATION:Divine soul rami\, Shri Vishnu Spiritual Ashram\, 19647 Lonestar Lane\, Riverside\, California\, CA\, 92508\, United States
CATEGORIES:Special Event
ATTACH;FMTTYPE=image/jpeg:https://divinesoulrami.com/wp-content/uploads/2023/02/06_54_328056240maha-shivratri-4.jpg
ORGANIZER;CN="Divine soul rami":MAILTO:Gururamiray44@gmail.com
END:VEVENT
BEGIN:VEVENT
DTSTART;VALUE=DATE:20240214
DTEND;VALUE=DATE:20240215
DTSTAMP:20260424T160754
CREATED:20240115T070123Z
LAST-MODIFIED:20240115T070222Z
UID:3812-1707868800-1707955199@divinesoulrami.com
SUMMARY:Vasant Panchami
DESCRIPTION:
URL:https://divinesoulrami.com/event/vasant-panchami/
LOCATION:Divine soul rami\, Shri Vishnu Spiritual Ashram\, 19647 Lonestar Lane\, Riverside\, California\, CA\, 92508\, United States
CATEGORIES:Special Event
ATTACH;FMTTYPE=image/jpeg:https://divinesoulrami.com/wp-content/uploads/2024/01/basant-panchami.jpg
ORGANIZER;CN="Divine soul rami":MAILTO:Gururamiray44@gmail.com
END:VEVENT
BEGIN:VEVENT
DTSTART;VALUE=DATE:20240126
DTEND;VALUE=DATE:20240127
DTSTAMP:20260424T160754
CREATED:20240115T064233Z
LAST-MODIFIED:20240115T070319Z
UID:3809-1706227200-1706313599@divinesoulrami.com
SUMMARY:Republic day of India
DESCRIPTION:
URL:https://divinesoulrami.com/event/republic-day-of-india/
LOCATION:Divine soul rami\, Shri Vishnu Spiritual Ashram\, 19647 Lonestar Lane\, Riverside\, California\, CA\, 92508\, United States
CATEGORIES:Special Event
ATTACH;FMTTYPE=image/png:https://divinesoulrami.com/wp-content/uploads/2024/01/republic-day.png
ORGANIZER;CN="Divine soul rami":MAILTO:Gururamiray44@gmail.com
END:VEVENT
END:VCALENDAR